BEGIN:VCALENDAR
VERSION:2.0
PRODID:-//ChamberMaster//Event Calendar 2.0//EN
METHOD:PUBLISH
X-PUBLISHED-TTL:P3D
REFRESH-INTERVAL:P3D
CALSCALE:GREGORIAN
BEGIN:VEVENT
DTSTART:20240413T190000Z
DTEND:20240414T000000Z
X-MICROSOFT-CDO-ALLDAYEVENT:FALSE
SUMMARY:KBK8 Spring Fest
DESCRIPTION:Family Fun with food\, rides\, giveaways & more.\n\n\n\nBig Top & Magic Sponsorships are LIMITED and will be confirmed first come first served
X-ALT-DESC;FMTTYPE=text/html:<br />\nFamily Fun with food\, rides\, giveaways &amp\; more.<br />\n<br />\nBig Top &amp\; Magic <a href="https://kbcspta.memberhub.com/">Sponsorships</a> are LIMITED and will be confirmed first come first served<br />\n&nbsp\;
LOCATION:Key Biscayne K-8 Center (KBK8) Field
UID:e.330.22519
SEQUENCE:3
DTSTAMP:20260425T140911Z
URL:http://business.keybiscaynechamber.org/events/details/kbk8-spring-fest-22519
END:VEVENT

END:VCALENDAR
