BEGIN:VCALENDAR
VERSION:2.0
PRODID:-//ChamberMaster//Event Calendar 2.0//EN
METHOD:PUBLISH
X-PUBLISHED-TTL:P3D
REFRESH-INTERVAL:P3D
CALSCALE:GREGORIAN
BEGIN:VEVENT
DTSTART:20200529T220000Z
DTEND:20200529T230000Z
X-MICROSOFT-CDO-ALLDAYEVENT:FALSE
SUMMARY:KBCC Understanding Mental Health Program
DESCRIPTION:Featuring: Amy Exum\, LMHC\n\nDo you know if mental health disorders are a personality trait or a medical issue? What is the difference between a psychiatrist and a therapist?\n\nJoin us for a discussion on the basics of mental health. Learn how to identify early warning signs of mental health issues\, such as anxiety and depression\, in adult and children. Find resources for support and what type of mental health professional to look for.
X-ALT-DESC;FMTTYPE=text/html:Featuring: Amy Exum\, LMHC<br />\nDo you know if mental health disorders are a personality trait or a medical issue? What is the difference between a psychiatrist and a therapist?<br />\nJoin us for a discussion on the basics of mental health. Learn how to identify early warning signs of mental health issues\, such as anxiety and depression\, in adult and children. Find resources for support and what type of mental health professional to look for.
LOCATION:Key Biscayne Community Center 10 Village Green Way\, 2nd Floor Key Biscayne\, FL 33149
UID:e.330.18653
SEQUENCE:3
DTSTAMP:20260420T030117Z
URL:http://business.keybiscaynechamber.org/events/details/kbcc-understanding-mental-health-program-18653
END:VEVENT

END:VCALENDAR
