BEGIN:VCALENDAR
VERSION:2.0
PRODID:-//ChamberMaster//Event Calendar 2.0//EN
METHOD:PUBLISH
X-PUBLISHED-TTL:P3D
REFRESH-INTERVAL:P3D
CALSCALE:GREGORIAN
BEGIN:VEVENT
DTSTART:20200109T163000Z
DTEND:20200109T190000Z
X-MICROSOFT-CDO-ALLDAYEVENT:FALSE
SUMMARY:KB Woman's Club Luncheon
DESCRIPTION:Buffet Covered Dish Lunch
X-ALT-DESC;FMTTYPE=text/html:Buffet Covered Dish Lunch
LOCATION:Mar Azul Condo 600 Grapetree Dr
UID:e.330.18560
SEQUENCE:3
DTSTAMP:20260421T032827Z
URL:http://business.keybiscaynechamber.org/events/details/kb-woman-s-club-luncheon-18560
END:VEVENT

END:VCALENDAR
