BEGIN:VCALENDAR
VERSION:2.0
PRODID:-//ChamberMaster//Event Calendar 2.0//EN
METHOD:PUBLISH
X-PUBLISHED-TTL:P3D
REFRESH-INTERVAL:P3D
CALSCALE:GREGORIAN
BEGIN:VEVENT
DTSTART:20240413T153000Z
DTEND:20240413T193000Z
X-MICROSOFT-CDO-ALLDAYEVENT:FALSE
SUMMARY:KB Rotary's McGillibby Tennis Tournament
DESCRIPTION:Join the Rotary Club of Key Biscayne for a fun afternoon of mixed doubles at Key Biscayne Tennis Association (KBTA) honoring Richard McGill and Father Robert Libby.\n\n\n\nWe will be serving a fabulous lunch of Brazilian rodizio meat on the grill\, paella\, salads and mimosas.\nWhether you're a seasoned player or just starting out\, this event is perfect for all tennis enthusiasts. Get ready to showcase your skills\, meet new friends\, and have a great time on the court. Don't miss out on this opportunity to be part of a fun and spirited tennis tournament. See you there!\n\nTournament info:\n\n\n	Mixed Doubles\n	2 Categories: Beginner & Intermediate\n	2 Matches Minimum included with your ticket\n	Plenty of courts available to practice\n	Tournament led by Juan Yuste\n\n\n \n\nProceeds from this event support Food for the Poor.
X-ALT-DESC;FMTTYPE=text/html:<br />\n<br />\n<span style="font-size: 16px\;">Join the Rotary Club of Key Biscayne for a fun afternoon of mixed doubles at Key Biscayne Tennis Association (KBTA) honoring Richard McGill and Father Robert Libby.<br />\n<br />\nWe will be serving a fabulous lunch of Brazilian rodizio meat on the grill\, paella\, salads and mimosas.</span>\n<p style="font-family: -apple-system\, &quot\;system-ui&quot\;\, Roboto\, &quot\;Helvetica Neue&quot\;\, Helvetica\, Tahoma\, Arial\, sans-serif\; margin: 0px\; padding: 10px 0px 0px\; box-sizing: border-box\; color: rgb(111\, 114\, 135)\; font-size: 16px\; line-height: 1.5rem\;">Whether you&#39\;re a seasoned player or just starting out\, this event is perfect for all tennis enthusiasts. Get ready to showcase your skills\, meet new friends\, and have a great time on the court. Don&#39\;t miss out on this opportunity to be part of a fun and spirited tennis tournament. See you there!</p>\n\n<p style="font-family: -apple-system\, &quot\;system-ui&quot\;\, Roboto\, &quot\;Helvetica Neue&quot\;\, Helvetica\, Tahoma\, Arial\, sans-serif\; margin: 0px\; padding: 10px 0px 0px\; box-sizing: border-box\; color: rgb(111\, 114\, 135)\; font-size: 16px\; line-height: 1.5rem\;">Tournament info:</p>\n\n<ul style="padding-top: 10px\; padding-right: 0px\; padding-left: 2em\; font-family: -apple-system\, &quot\;system-ui&quot\;\, Roboto\, &quot\;Helvetica Neue&quot\;\, Helvetica\, Tahoma\, Arial\, sans-serif\; margin: 0px\; list-style-position: initial\; list-style-image: initial\; box-sizing: border-box\; color: rgb(111\, 114\, 135)\; font-size: 16px\; line-height: 1.5rem\;">\n	<li style="margin: 0px\; padding: 0px\; box-sizing: border-box\; font-family: -apple-system\, BlinkMacSystemFont\, Roboto\, &quot\;Helvetica Neue&quot\;\, Helvetica\, Tahoma\, Arial\, sans-serif !important\;">Mixed Doubles</li>\n	<li style="margin: 0px\; padding: 5px 0px 0px\; box-sizing: border-box\; font-family: -apple-system\, BlinkMacSystemFont\, Roboto\, &quot\;Helvetica Neue&quot\;\, Helvetica\, Tahoma\, Arial\, sans-serif !important\;">2 Categories: Beginner &amp\; Intermediate</li>\n	<li style="margin: 0px\; padding: 5px 0px 0px\; box-sizing: border-box\; font-family: -apple-system\, BlinkMacSystemFont\, Roboto\, &quot\;Helvetica Neue&quot\;\, Helvetica\, Tahoma\, Arial\, sans-serif !important\;">2 Matches Minimum included with your ticket</li>\n	<li style="margin: 0px\; padding: 5px 0px 0px\; box-sizing: border-box\; font-family: -apple-system\, BlinkMacSystemFont\, Roboto\, &quot\;Helvetica Neue&quot\;\, Helvetica\, Tahoma\, Arial\, sans-serif !important\;">Plenty of courts available to practice</li>\n	<li style="margin: 0px\; padding: 5px 0px 0px\; box-sizing: border-box\; font-family: -apple-system\, BlinkMacSystemFont\, Roboto\, &quot\;Helvetica Neue&quot\;\, Helvetica\, Tahoma\, Arial\, sans-serif !important\;">Tournament led by Juan Yuste</li>\n</ul>\n\n<p>&nbsp\;</p>\n\n<p><span style="font-size: 16px\;">Proceeds from this event support Food for the Poor.</span></p>\n
LOCATION:Key Biscayne Tennis Association (KBTA)
UID:e.330.22531
SEQUENCE:3
DTSTAMP:20260425T141433Z
URL:http://business.keybiscaynechamber.org/events/details/kb-rotary-s-mcgillibby-tennis-tournament-22531
END:VEVENT

END:VCALENDAR
