BEGIN:VCALENDAR
VERSION:2.0
PRODID:-//ChamberMaster//Event Calendar 2.0//EN
METHOD:PUBLISH
X-PUBLISHED-TTL:P3D
REFRESH-INTERVAL:P3D
CALSCALE:GREGORIAN
BEGIN:VEVENT
DTSTART:20200123T140000Z
DTEND:20200123T150000Z
X-MICROSOFT-CDO-ALLDAYEVENT:FALSE
SUMMARY:KB Presbyterian School Open House
DESCRIPTION:Key Biscayne Presbyterian School (Toddlers - 2nd Grade) invites you to find out what makes them unique. Meet their passionate teachers\, see their classrooms in action\, tour their engaging outdoor areas and garden. School Tours available Thursdays at 10am.
X-ALT-DESC;FMTTYPE=text/html:Key Biscayne Presbyterian School (Toddlers - 2nd Grade) invites you to find out what makes them unique. Meet their passionate teachers\, see their classrooms in action\, tour their engaging outdoor areas and garden. School Tours available Thursdays at 10am.
LOCATION:Key Biscayne Presbyterian School 160 Harbor Dr Key Biscayne\, FL 33149
UID:e.330.18602
SEQUENCE:3
DTSTAMP:20260421T074924Z
URL:http://business.keybiscaynechamber.org/events/details/kb-presbyterian-school-open-house-18602
END:VEVENT

END:VCALENDAR
