BEGIN:VCALENDAR
VERSION:2.0
PRODID:-//ChamberMaster//Event Calendar 2.0//EN
METHOD:PUBLISH
X-PUBLISHED-TTL:P3D
REFRESH-INTERVAL:P3D
CALSCALE:GREGORIAN
BEGIN:VEVENT
DTSTART:20190404T230000Z
DTEND:20190405T010000Z
X-MICROSOFT-CDO-ALLDAYEVENT:FALSE
SUMMARY:KB Piano Festival's South American Cultural Celebration
DESCRIPTION:Enjoy an out of the ordinary experience: two magnificent performers from Venezuela\, Frank di Polo and Edepson Gonzalez\, who\, guided by inspiration and empathy\, will improvise an unforgettable trip from Baroque to Jazz and "something more" in a unique concert.\n\n\n\nThey will be surrounded by artists from other South American countries during their performance as well. Jimena Gratteri\, from Peru\, will be painting live during the concert. Ivonete Leite\, from Brazil\, will be showcasing her photos. We welcome Tango dancers Erin Fennel & Luis Vivas from Elisabeth Guerrero's School "El Firulete Tango".\n\n\n\nPuntino will sell Prosecco/white-red wines/water before the concert & during the Intermission.
X-ALT-DESC;FMTTYPE=text/html:Enjoy an out of the ordinary experience: two magnificent performers from Venezuela\, Frank di Polo and Edepson Gonzalez\, who\, guided by inspiration and empathy\, will improvise an unforgettable trip from Baroque to Jazz and &ldquo\;something more&rdquo\; in a unique concert.<br />\n<br />\nThey will be surrounded by artists from other South American countries during their performance as well. Jimena Gratteri\, from Peru\, will be painting live during the concert. Ivonete Leite\, from Brazil\, will be showcasing her photos. We welcome Tango dancers Erin Fennel &amp\; Luis Vivas from Elisabeth Guerrero&rsquo\;s School &quot\;El Firulete Tango&quot\;.<br />\n<br />\nPuntino will sell Prosecco/white-red wines/water before the concert &amp\; during the Intermission.&nbsp\;
LOCATION:Crossbridge Church 160 Harbor Dr Key Biscayne\, FL 33149
UID:e.330.15693
SEQUENCE:3
DTSTAMP:20260423T022350Z
URL:http://business.keybiscaynechamber.org/events/details/kb-piano-festival-s-south-american-cultural-celebration-15693
END:VEVENT

END:VCALENDAR
