BEGIN:VCALENDAR
VERSION:2.0
PRODID:-//ChamberMaster//Event Calendar 2.0//EN
METHOD:PUBLISH
X-PUBLISHED-TTL:P3D
REFRESH-INTERVAL:P3D
CALSCALE:GREGORIAN
BEGIN:VEVENT
DTSTART:20260425T190000Z
DTEND:20260426T000000Z
X-MICROSOFT-CDO-ALLDAYEVENT:FALSE
SUMMARY:KB EarthFest 2026
DESCRIPTION:EarthFest 2026: Our Power\, Our Planet\n\n\n\nBrought to you by the Marjory Stoneman Douglas Nature Center and the Village of Key Biscayne - a day filled with live music\, poetry\, activities\, food\, a recycled fashion show and more all honoring Planet Earth.\nGrab your free Eco Passport and kick off a day of fun\, learning\, and planet-friendly inspiration at EarthFest 2026!\n\nEnjoy live music from the Recycled Orchestra of Cateura\, Grant Livingston\, and Paty B\, plus a creative Recycled Runway Show. Explore the Eco Village's Planet Protectors Row\, get hands-on with arts & crafts\, and take part in poetry and storytelling sessions.\n\nDiscover native plants and gardening tips\, and refuel at a variety of food stations throughout the day.\n\nBring the whole family and celebrate the power we all have to protect our planet!
X-ALT-DESC;FMTTYPE=text/html:<br />\n<br />\n<strong data-end="154" data-start="113" style="color: rgb(51\, 51\, 51)\; font-family: sans-serif\, Arial\, Verdana\, &quot\;Trebuchet MS&quot\;\; font-size: 16px\; background-color: rgb(255\, 255\, 255)\;">EarthFest 2026: Our Power\, Our Planet</strong><br />\n<br />\n<span style="font-size:16px\;">Brought to you by the Marjory Stoneman Douglas Nature Center and the Village of Key Biscayne - a day filled with live music\, poetry\, activities\, food\, a recycled fashion show and more all honoring Planet Earth.</span>\n<p data-end="154" data-start="113"><span style="font-size:16px\;">Grab your free Eco Passport and kick off a day of fun\, learning\, and planet-friendly inspiration at EarthFest 2026!</span></p>\n\n<p data-end="532" data-start="273"><span style="font-size:16px\;">Enjoy live music from the Recycled Orchestra of Cateura\, Grant Livingston\, and Paty B\, plus a creative Recycled Runway Show. Explore the Eco Village&rsquo\;s <em data-end="447" data-start="424">Planet Protectors Row</em>\, get hands-on with arts &amp\; crafts\, and take part in poetry and storytelling sessions.</span></p>\n\n<p data-end="637" data-start="534"><span style="font-size:16px\;">Discover native plants and gardening tips\, and refuel at a variety of food stations throughout the day.</span></p>\n\n<p data-end="723" data-start="639"><span style="font-size:16px\;">Bring the whole family and celebrate the power we all have to protect our planet! &#127758\;</span></p>\n
LOCATION:Paradise Park | Key Biscayne Civic Center
UID:e.330.24416
SEQUENCE:3
DTSTAMP:20260422T183242Z
URL:http://business.keybiscaynechamber.org/events/details/kb-earthfest-2026-24416
END:VEVENT

END:VCALENDAR
