BEGIN:VCALENDAR
VERSION:2.0
PRODID:-//ChamberMaster//Event Calendar 2.0//EN
METHOD:PUBLISH
X-PUBLISHED-TTL:P3D
REFRESH-INTERVAL:P3D
CALSCALE:GREGORIAN
BEGIN:VEVENT
DTSTART:20260423T213000Z
DTEND:20260423T223000Z
X-MICROSOFT-CDO-ALLDAYEVENT:FALSE
SUMMARY:KB Community Garden "1st Anniversary" Celebration
DESCRIPTION:The Village of Key Biscayne invites you to celebrate a truly special milestone\; the first anniversary of the Community Garden.\n\n\n\nWhat began as a simple idea has grown into something far more meaningful. Over the past year\, this garden has become a place where neighbors connect\, friendships take root\, and a shared love for nature brings people together. It's where hands meet the soil\, stories are exchanged between garden beds\, and a sense of community continues to flourish.\n\nJoin us as we honor a year of growth\, both in the garden and among those who have helped it thrive. Whether you've been part of the journey from the beginning or are discovering it for the first time\, this celebration is an opportunity to gather\, reflect\, and look ahead to many more seasons of connection and cultivation.\n\nCome celebrate the space\, the people\, and the spirit that made it all possible.
X-ALT-DESC;FMTTYPE=text/html:<section class="text-token-text-primary w-full focus:outline-none [--shadow-height:45px] has-data-writing-block:pointer-events-none has-data-writing-block:-mt-(--shadow-height) has-data-writing-block:pt-(--shadow-height) [&amp\;:has([data-writing-block])&gt\;*]:pointer-events-auto R6Vx5W_threadScrollVars scroll-mb-[calc(var(--scroll-root-safe-area-inset-bottom\,0px)+var(--thread-response-height))] scroll-mt-(--header-height)" data-scroll-anchor="false" data-testid="conversation-turn-1" data-turn="user" data-turn-id="bfd6226d-749e-49b1-aac7-d11bdf85a642" dir="auto">\n<div class="text-base my-auto mx-auto pt-3 [--thread-content-margin:var(--thread-content-margin-xs\,calc(var(--spacing)*4))] @w-sm/main:[--thread-content-margin:var(--thread-content-margin-sm\,calc(var(--spacing)*6))] @w-lg/main:[--thread-content-margin:var(--thread-content-margin-lg\,calc(var(--spacing)*16))] px-(--thread-content-margin)" data-cqc-c9b12bfb="c207 c216" data-cqs-c9b12bfb="c207 c216">\n<div class="[--thread-content-max-width:40rem] @w-lg/main:[--thread-content-max-width:48rem] mx-auto max-w-(--thread-content-max-width) flex-1 group/turn-messages focus-visible:outline-hidden relative flex w-full min-w-0 flex-col" data-cqc-c9b12bfb="c216" data-cqs-c9b12bfb="c216">\n<div class="flex max-w-full flex-col gap-4 grow">\n<div class="min-h-8 text-message relative flex w-full flex-col items-end gap-2 text-start break-words whitespace-normal outline-none keyboard-focused:focus-ring [.text-message+&amp\;]:mt-1" data-message-author-role="user" data-message-id="bfd6226d-749e-49b1-aac7-d11bdf85a642" dir="auto">\n<div class="flex w-full flex-col gap-1 empty:hidden items-end rtl:items-start">\n<div class="user-message-bubble-color corner-superellipse/0.98 relative min-w-0 rounded-[22px] px-4 py-2.5 leading-6 max-w-(--user-chat-width\,70%)">\n<div class="[overflow-wrap:anywhere] whitespace-pre-wrap"><br />\n&nbsp\;</div>\n</div>\n</div>\n</div>\n</div>\n</div>\n</div>\n</section>\n\n<section class="text-token-text-primary w-full focus:outline-none [--shadow-height:45px] has-data-writing-block:pointer-events-none has-data-writing-block:-mt-(--shadow-height) has-data-writing-block:pt-(--shadow-height) [&amp\;:has([data-writing-block])&gt\;*]:pointer-events-auto [content-visibility:auto] supports-[content-visibility:auto]:[contain-intrinsic-size:auto_100lvh] R6Vx5W_threadScrollVars scroll-mb-[calc(var(--scroll-root-safe-area-inset-bottom\,0px)+var(--thread-response-height))] scroll-mt-[calc(var(--header-height)+min(200px\,max(70px\,20svh)))]" data-scroll-anchor="false" data-testid="conversation-turn-2" data-turn="assistant" data-turn-id="request-WEB:4f741499-8713-4b13-88c6-f91722a5241c-4" dir="auto">\n<div class="text-base my-auto mx-auto pb-10 [--thread-content-margin:var(--thread-content-margin-xs\,calc(var(--spacing)*4))] @w-sm/main:[--thread-content-margin:var(--thread-content-margin-sm\,calc(var(--spacing)*6))] @w-lg/main:[--thread-content-margin:var(--thread-content-margin-lg\,calc(var(--spacing)*16))] px-(--thread-content-margin)" data-cqc-c9b12bfb="c207 c216" data-cqs-c9b12bfb="c207 c216">\n<div class="[--thread-content-max-width:40rem] @w-lg/main:[--thread-content-max-width:48rem] mx-auto max-w-(--thread-content-max-width) flex-1 group/turn-messages focus-visible:outline-hidden relative flex w-full min-w-0 flex-col agent-turn" data-cqc-c9b12bfb="c216" data-cqs-c9b12bfb="c216">\n<div class="flex max-w-full flex-col gap-4 grow">\n<div class="min-h-8 text-message relative flex w-full flex-col items-end gap-2 text-start break-words whitespace-normal outline-none keyboard-focused:focus-ring [.text-message+&amp\;]:mt-1" data-message-author-role="assistant" data-message-id="3f37c987-4725-4b9e-aa08-45c5d82ec4f1" data-message-model-slug="gpt-5-3" data-turn-start-message="true" dir="auto" tabindex="0">\n<div class="flex w-full flex-col gap-1 empty:hidden">\n<div class="markdown prose dark:prose-invert w-full wrap-break-word light markdown-new-styling">\n<p data-end="475" data-start="127"><span style="color: rgb(51\, 51\, 51)\; font-family: sans-serif\, Arial\, Verdana\, &quot\;Trebuchet MS&quot\;\; background-color: rgb(255\, 255\, 255)\; font-size: 16px\;">The Village of Key Biscayne invites you to celebrate a truly special milestone\;&nbsp\;the first anniversary of the Community Garden.</span><br />\n<br />\n<span style="font-size:16px\;">What began as a simple idea has grown into something far more meaningful. Over the past year\, this garden has become a place where neighbors connect\, friendships take root\, and a shared love for nature brings people together. It&rsquo\;s where hands meet the soil\, stories are exchanged between garden beds\, and a sense of community continues to flourish.</span></p>\n\n<p data-end="798" data-start="477"><span style="font-size:16px\;">Join us as we honor a year of growth\, both in the garden and among those who have helped it thrive. Whether you&rsquo\;ve been part of the journey from the beginning or are discovering it for the first time\, this celebration is an opportunity to gather\, reflect\, and look ahead to many more seasons of connection and cultivation.</span></p>\n\n<p data-end="882" data-is-last-node="" data-is-only-node="" data-start="800"><span style="font-size:16px\;">Come celebrate the space\, the people\, and the spirit that made it all possible. &#127793\;</span></p>\n</div>\n</div>\n</div>\n</div>\n</div>\n</div>\n</section>\n
LOCATION:KB Community Garden (located at Beach Park)
UID:e.330.24419
SEQUENCE:3
DTSTAMP:20260422T204749Z
URL:http://business.keybiscaynechamber.org/events/details/kb-community-garden-1st-anniversary-celebration-24419
END:VEVENT

END:VCALENDAR
