BEGIN:VCALENDAR
VERSION:2.0
PRODID:-//ChamberMaster//Event Calendar 2.0//EN
METHOD:PUBLISH
X-PUBLISHED-TTL:P3D
REFRESH-INTERVAL:P3D
CALSCALE:GREGORIAN
BEGIN:VEVENT
DTSTART:20190925T113000Z
DTEND:20190925T123000Z
X-MICROSOFT-CDO-ALLDAYEVENT:FALSE
SUMMARY:KB Chamber Board Meeting
DESCRIPTION:Key Biscayne Chamber of Commerce Monthly Board Meeting
X-ALT-DESC;FMTTYPE=text/html:Key Biscayne Chamber of Commerce Monthly Board Meeting
LOCATION:
UID:e.330.15608
SEQUENCE:3
DTSTAMP:20260422T073533Z
URL:http://business.keybiscaynechamber.org/events/details/kb-chamber-board-meeting-09-19-2019-15608
END:VEVENT

END:VCALENDAR
