BEGIN:VCALENDAR
VERSION:2.0
PRODID:-//ChamberMaster//Event Calendar 2.0//EN
METHOD:PUBLISH
X-PUBLISHED-TTL:P3D
REFRESH-INTERVAL:P3D
CALSCALE:GREGORIAN
BEGIN:VEVENT
DTSTART:20240116T220000Z
DTEND:20240117T000000Z
X-MICROSOFT-CDO-ALLDAYEVENT:FALSE
SUMMARY:KB Chamber 2024 Board Installation Ceremony
DESCRIPTION:Join us for the Key Biscayne Chamber of Commerce 2024 Board Installation Cocktail Reception at the Key Biscayne Yacht Club presented by Baptist Health. \n\n\n\nWe are proud to present our incoming slate of Directors:\n\n\n\nChair: Vivian Galego-Mendez\, BHHS EWM Realty\n\nVice Chair: Mary Tague\, Toy Town\n\nTreasurer: Robert Brookes\, Key to Banking\n\nSecretary: Joe Coote\, The Ritz-Carlton Key Biscayne\, Miami\n\n***\n\nDomenica Chiriboga\, Northern Trust\n\nIsabella Gukeisen\, Diver's Paradise\n\nThomas Kassner\, Key Biscayne Yacht Club\n\nRyan LeMasters\, HCA Florida Mercy Hospital\n\nMarcelo Martinez\, Hotwire Communications\n\nAlejandro Servalli\, Key Biscayne Stories Podcast\n\n \n\nAlternate: Alejandro Perez Duque\, PVG Insurance Group\n\n\n\nTHIS EVENT IS SOLD OUT.
X-ALT-DESC;FMTTYPE=text/html:<p>&nbsp\;</p>\n<span style="font-size:16px\;">Join us for the Key Biscayne Chamber of Commerce 2024 Board Installation Cocktail Reception at the Key Biscayne Yacht Club presented by <a href="https://baptisthealth.net/locations/urgent-care-express/key-biscayne-urgent-care-express">Baptist Health</a>.&nbsp\;<br />\n<br />\n<span style="font-family:century gothic\,sans-serif\;">We are proud to present our incoming slate of Directors:</span><br />\n<br />\n<span style="font-family:century gothic\,sans-serif\;">Chair:&nbsp\;<strong>Vivian Galego-Mendez</strong>\, BHHS EWM Realty</span><br />\n<span style="font-family:century gothic\,sans-serif\;">Vice Chair: <strong>Mary Tague</strong>\, Toy Town</span><br />\n<span style="font-family:century gothic\,sans-serif\;">Treasurer:&nbsp\;<strong>Robert Brookes</strong>\, Key to Banking</span><br />\n<span style="font-family:century gothic\,sans-serif\;">Secretary:&nbsp\;<strong>Joe Coote</strong>\, The Ritz-Carlton Key Biscayne\, Miami</span><br />\n***<br />\n<strong><span style="font-family:century gothic\,sans-serif\;">Domenica Chiriboga</span></strong><span style="font-family:century gothic\,sans-serif\;">\, Northern Trust</span><br />\n<strong><span style="font-family:century gothic\,sans-serif\;">Isabella Gukeisen</span></strong><span style="font-family:century gothic\,sans-serif\;">\, Diver&rsquo\;s Paradise</span><br />\n<strong><span style="font-family:century gothic\,sans-serif\;">Thomas Kassner</span></strong><span style="font-family:century gothic\,sans-serif\;">\, Key Biscayne Yacht Club</span><br />\n<strong><span style="font-family:century gothic\,sans-serif\;">Ryan LeMasters</span></strong><span style="font-family:century gothic\,sans-serif\;">\, HCA Florida Mercy Hospital</span><br />\n<strong><span style="font-family:century gothic\,sans-serif\;">Marcelo Martinez</span></strong><span style="font-family:century gothic\,sans-serif\;">\, Hotwire Communications</span><br />\n<strong><span style="font-family:century gothic\,sans-serif\;">Alejandro Servalli</span></strong><span style="font-family:century gothic\,sans-serif\;">\, Key Biscayne Stories Podcast</span><br />\n&nbsp\;<br />\n<span style="font-family:century gothic\,sans-serif\;">Alternate:<strong> Alejandro Perez Duque</strong>\, PVG Insurance Group</span></span><br />\n<br />\n<span style="font-size:18px\;"><span style="color:#FF0000\;"><strong>THIS EVENT IS SOLD OUT.</strong></span></span>
LOCATION:Key Biscayne Yacht Club
UID:e.330.22448
SEQUENCE:3
DTSTAMP:20260425T182556Z
URL:http://business.keybiscaynechamber.org/events/details/kb-chamber-2024-board-installation-ceremony-22448
END:VEVENT

END:VCALENDAR
