BEGIN:VCALENDAR
VERSION:2.0
PRODID:-//ChamberMaster//Event Calendar 2.0//EN
METHOD:PUBLISH
X-PUBLISHED-TTL:P3D
REFRESH-INTERVAL:P3D
CALSCALE:GREGORIAN
BEGIN:VEVENT
DTSTART:20191211T220000Z
DTEND:20191212T000000Z
X-MICROSOFT-CDO-ALLDAYEVENT:FALSE
SUMMARY:Jingle Mix 'n' Mingle at Lightkeepers
DESCRIPTION:Join us for our holiday networking event at Lightkeepers at The Ritz-Carlton Key Biscayne.\n\nEnjoy a complimentary glass of Prosecco upon arrival and Happy Hour drink prices throughout the night.\n\n$7 valet parking with validation.
X-ALT-DESC;FMTTYPE=text/html:Join us for our holiday networking event at Lightkeepers at The Ritz-Carlton Key Biscayne.<br />\nEnjoy a complimentary glass of Prosecco upon arrival and Happy Hour drink prices throughout the night.<br />\n$7 valet parking with validation.&nbsp\;<br />\n&nbsp\;
LOCATION:Lightkeepers at The Ritz-Carlton Key Biscayne 455 Grand Bay Dr Key Biscayne\, FL 3314
UID:e.330.15521
SEQUENCE:3
DTSTAMP:20260421T090834Z
URL:http://business.keybiscaynechamber.org/events/details/jingle-mix-n-mingle-at-lightkeepers-15521
END:VEVENT

END:VCALENDAR
