BEGIN:VCALENDAR
VERSION:2.0
PRODID:-//ChamberMaster//Event Calendar 2.0//EN
METHOD:PUBLISH
X-PUBLISHED-TTL:P3D
REFRESH-INTERVAL:P3D
CALSCALE:GREGORIAN
BEGIN:VEVENT
DTSTART:20260521T224500Z
DTEND:20260522T010000Z
X-MICROSOFT-CDO-ALLDAYEVENT:FALSE
SUMMARY:JCT4Education Networking
DESCRIPTION:We're delighted to invite you and your entire team to join us for a special networking event at our Innovation Center. This gathering is designed to bring together local professionals in a relaxed\, inspiring setting where meaningful connections can flourish.\n\nEnjoy the opportunity to exchange ideas\, spark new collaborations\, and strengthen the relationships that make our community so dynamic. Whether you're looking to grow your network\, share insights\, or simply connect with familiar faces\, it promises to be an energizing and worthwhile evening.\n\nWe look forward to welcoming you!
X-ALT-DESC;FMTTYPE=text/html:&nbsp\;\n<p data-end="343" data-start="83"><br />\n<span style="font-size:16px\;">We&rsquo\;re delighted to invite you and your entire team to join us for a special networking event at our Innovation Center. This gathering is designed to bring together local professionals in a relaxed\, inspiring setting where meaningful connections can flourish.</span></p>\n\n<p data-end="638" data-start="345"><span style="font-size:16px\;">Enjoy the opportunity to exchange ideas\, spark new collaborations\, and strengthen the relationships that make our community so dynamic. Whether you&rsquo\;re looking to grow your network\, share insights\, or simply connect with familiar faces\, it promises to be an energizing and worthwhile evening.</span></p>\n\n<p data-end="673" data-is-last-node="" data-is-only-node="" data-start="640"><span style="font-size:16px\;">We look forward to welcoming you!</span></p>\n
LOCATION:JCT4Education 4U! Innovation Center
UID:e.330.24418
SEQUENCE:3
DTSTAMP:20260424T144659Z
URL:http://business.keybiscaynechamber.org/events/details/jct4education-networking-24418
END:VEVENT

END:VCALENDAR
