BEGIN:VCALENDAR
VERSION:2.0
PRODID:-//ChamberMaster//Event Calendar 2.0//EN
METHOD:PUBLISH
X-PUBLISHED-TTL:P3D
REFRESH-INTERVAL:P3D
CALSCALE:GREGORIAN
BEGIN:VEVENT
DTSTART:20211212T150000Z
DTEND:20211212T180000Z
X-MICROSOFT-CDO-ALLDAYEVENT:FALSE
SUMMARY:Irene Rojas Real Estate Client Appreciation Party
DESCRIPTION:Irene Rojas Real Estate invites you to join Cervera Real Estate for churros\, hot cocoa & holiday cheer\, and photo with Santa!\n\n\n\nRSVP to irojas@cervera.com
X-ALT-DESC;FMTTYPE=text/html:Irene Rojas Real Estate invites you to join Cervera Real Estate for churros\, hot cocoa &amp\; holiday cheer\, and photo with Santa!<br />\n<br />\nRSVP to <a href="mailto:irojas@cervera.com ?subject=RSVP%20Client%20Appreciation%20Party">irojas@cervera.com&nbsp\;</a>
LOCATION:Cervera Real Estate
UID:e.330.21379
SEQUENCE:3
DTSTAMP:20260419T205055Z
URL:http://business.keybiscaynechamber.org/events/details/irene-rojas-real-estate-client-appreciation-party-21379
END:VEVENT

END:VCALENDAR
