BEGIN:VCALENDAR
VERSION:2.0
PRODID:-//ChamberMaster//Event Calendar 2.0//EN
METHOD:PUBLISH
X-PUBLISHED-TTL:P3D
REFRESH-INTERVAL:P3D
CALSCALE:GREGORIAN
BEGIN:VEVENT
DTSTART:20190912T230000Z
DTEND:20190913T000000Z
X-MICROSOFT-CDO-ALLDAYEVENT:FALSE
SUMMARY:How to Talk to Your Children About Difficult Topics
DESCRIPTION:How to talk to your children about difficult topics by Michelle Hernandez. Childcare is available.
X-ALT-DESC;FMTTYPE=text/html:How to talk to your children about difficult topics by Michelle Hernandez. Childcare is available.
LOCATION:Key Biscayne Presbyterian School 160 Harbor Drive Key Biscayne\, FL 33149
UID:e.330.16445
SEQUENCE:3
DTSTAMP:20260422T093956Z
URL:http://business.keybiscaynechamber.org/events/details/how-to-talk-to-your-children-about-difficult-topics-16445
END:VEVENT

END:VCALENDAR
