BEGIN:VCALENDAR
VERSION:2.0
PRODID:-//ChamberMaster//Event Calendar 2.0//EN
METHOD:PUBLISH
X-PUBLISHED-TTL:P3D
REFRESH-INTERVAL:P3D
CALSCALE:GREGORIAN
BEGIN:VEVENT
DTSTART:20191101T220000Z
DTEND:20191102T020000Z
X-MICROSOFT-CDO-ALLDAYEVENT:FALSE
SUMMARY:House of Spells SPOOK-tacular
DESCRIPTION:Celebrate Halloween with all the ghouls and goblins from the House of Spells and enjoy spooky cocktails\, hair-raising bar bites\, Dia de Los Muertos themed face painting\, entertainment\, and more! Costumes encouraged. Food and beverage available a la carte.
X-ALT-DESC;FMTTYPE=text/html:Celebrate Halloween with all the ghouls and goblins from the House of Spells and enjoy spooky cocktails\, hair-raising bar bites\, Dia de Los Muertos themed face painting\, entertainment\, and more! Costumes encouraged. Food and beverage available a la carte.
LOCATION:The Ritz-Carlton Key Biscayne\, Miami 455 Grand Bay Drive Key Biscayne\, FL 33149
UID:e.330.16450
SEQUENCE:3
DTSTAMP:20260421T121039Z
URL:http://business.keybiscaynechamber.org/events/details/house-of-spells-spook-tacular-16450
END:VEVENT

END:VCALENDAR
