BEGIN:VCALENDAR
VERSION:2.0
PRODID:-//ChamberMaster//Event Calendar 2.0//EN
METHOD:PUBLISH
X-PUBLISHED-TTL:P3D
REFRESH-INTERVAL:P3D
CALSCALE:GREGORIAN
BEGIN:VEVENT
DTSTART:20191222T000000Z
DTEND:20191222T010000Z
X-MICROSOFT-CDO-ALLDAYEVENT:FALSE
SUMMARY:Holiday Concert: Seraphic Fire
DESCRIPTION:Grammy-nominated vocal ensemble Seraphic Fire brings its annual candlelit Christmas performance to the Key Biscayne community with a repertoire featuring traditional Christmas carols\, contemporary choral arrangements\, and transcendent Gregorian chant. Surround yourself in the beauty of glorious traditional carols including "O Come All Ye Faithful\," "O Little Town of Bethlehem" and "Once in Royal David's City.\n\nThis event is made possible through the generous support of the Village of Key Biscayne and the Key Biscayne Community Foundation.
X-ALT-DESC;FMTTYPE=text/html:Grammy-nominated vocal ensemble Seraphic Fire brings its annual candlelit Christmas performance to the Key Biscayne community with a repertoire featuring traditional Christmas carols\, contemporary choral arrangements\, and transcendent Gregorian chant. Surround yourself in the beauty of glorious traditional carols including &ldquo\;O Come All Ye Faithful\,&rdquo\; &ldquo\;O Little Town of Bethlehem&rdquo\; and &ldquo\;Once in Royal David&rsquo\;s City.<br />\nThis event is made possible through the generous support of the Village of Key Biscayne and the Key Biscayne Community Foundation.
LOCATION:Key Biscayne Crossbridge Church 160 Harbor Drive Key Biscayne\, FL 33149
UID:e.330.18552
SEQUENCE:3
DTSTAMP:20260421T104135Z
URL:http://business.keybiscaynechamber.org/events/details/holiday-concert-seraphic-fire-18552
END:VEVENT

END:VCALENDAR
