BEGIN:VCALENDAR
VERSION:2.0
PRODID:-//ChamberMaster//Event Calendar 2.0//EN
METHOD:PUBLISH
X-PUBLISHED-TTL:P3D
REFRESH-INTERVAL:P3D
CALSCALE:GREGORIAN
BEGIN:VEVENT
DTSTART:20240419T150000Z
DTEND:20240419T170000Z
X-MICROSOFT-CDO-ALLDAYEVENT:FALSE
SUMMARY:Historic Lunch & Learn
DESCRIPTION:Welcome to the Historic Lunch & Learn event at Historic Virginia Key Beach Park! Join us in partnership with Profiles in Black Miami for an informative and delicious experience where you can enjoy a tasty lunch while learning about the incorporators that helped pave the way for the founding of the City of Miami in 1896 and the rich history of this iconic location.\n\nThe event will take place in person\, allowing you to immerse yourself in the stories and heritage of this historic site.\n\nWe invite you to:\n\n\n	Learn the unique story of the City of Miami?s creation\n	Enjoy a lunch provided by the Virginia Key Beach Park Trust\n	Enter in a park raffle for a FREE pavilion rental\n\n\nDon't miss this unique opportunity to indulge in good food and fascinating knowledge. Come hungry for lunch and leave full of new insights!
X-ALT-DESC;FMTTYPE=text/html:<p><br />\n<br />\n<br />\nWelcome to the&nbsp\;<strong>Historic Lunch &amp\; Learn</strong>&nbsp\;event at&nbsp\;<strong>Historic Virginia Key Beach Park</strong>! Join us in partnership with Profiles in Black Miami for an informative and delicious experience where you can enjoy a tasty lunch while learning about the incorporators that helped pave the way for the founding of the City of Miami in 1896 and the rich history of this iconic location.</p>\n\n<p>The event will take place in person\, allowing you to immerse yourself in the stories and heritage of this historic site.</p>\n\n<p>We invite you to:</p>\n\n<ul>\n	<li>Learn the unique story of the City of Miami?s creation</li>\n	<li>Enjoy a lunch provided by the Virginia Key Beach Park Trust</li>\n	<li>Enter in a park raffle for a FREE pavilion rental</li>\n</ul>\n\n<p>Don&#39\;t miss this unique opportunity to indulge in good food and fascinating knowledge. Come hungry for lunch and leave full of new insights!</p>\n
LOCATION:Historic Virginia Key Beach Park
UID:e.330.22539
SEQUENCE:3
DTSTAMP:20260425T140912Z
URL:http://business.keybiscaynechamber.org/events/details/historic-lunch-learn-22539
END:VEVENT

END:VCALENDAR
