BEGIN:VCALENDAR
VERSION:2.0
PRODID:-//ChamberMaster//Event Calendar 2.0//EN
METHOD:PUBLISH
X-PUBLISHED-TTL:P3D
REFRESH-INTERVAL:P3D
CALSCALE:GREGORIAN
BEGIN:VEVENT
DTSTART:20200405T200000Z
DTEND:20200405T210000Z
X-MICROSOFT-CDO-ALLDAYEVENT:FALSE
SUMMARY:Healthy Kids Running Series - Race #3
DESCRIPTION:Healthy Kids Running Series was created by Jeff Long\, Founder and President of Pattison Sports Group\, to motivate kids to lead a healthy and active lifestyle through a positive introduction to the world of running. HKRS is a national\, community-based non-profit that provides a fun with an inclusive five-week running series for ages 2-14.
X-ALT-DESC;FMTTYPE=text/html:Healthy Kids Running Series was created by Jeff Long\, Founder and President of Pattison Sports Group\, to motivate kids to lead a healthy and active lifestyle through a positive introduction to the world of running. HKRS is a national\, community-based non-profit that provides a fun with an inclusive five-week running series for ages 2-14.
LOCATION:Key Biscayne Village Green 450 Crandon Blvd
UID:e.330.18641
SEQUENCE:3
DTSTAMP:20260420T050840Z
URL:http://business.keybiscaynechamber.org/events/details/healthy-kids-running-series-race-3-18641
END:VEVENT

END:VCALENDAR
