BEGIN:VCALENDAR
VERSION:2.0
PRODID:-//ChamberMaster//Event Calendar 2.0//EN
METHOD:PUBLISH
X-PUBLISHED-TTL:P3D
REFRESH-INTERVAL:P3D
CALSCALE:GREGORIAN
BEGIN:VEVENT
DTSTART:20191018T210000Z
DTEND:20191020T020000Z
X-MICROSOFT-CDO-ALLDAYEVENT:FALSE
SUMMARY:Haunted Hike 2019 at Bill Baggs
DESCRIPTION:Do you dare to take the Haunted Hike?\n\nSpooktacular Nights of horrifying hilarity at the Park after dark! Face painting\, pumpkins\, games\, rides\, food and drink by Boater's Grill. Plan a spooky spot on the Hike to compete for cash prizes!\n\nOR\n\nCome for and experience the fun and scary results!
X-ALT-DESC;FMTTYPE=text/html:Do you dare to take the Haunted Hike?<br />\nSpooktacular Nights of horrifying hilarity at the Park after dark! Face painting\, pumpkins\, games\, rides\, food and drink by Boater&#39\;s Grill. Plan a spooky spot on the Hike to compete for cash prizes!<br />\nOR<br />\nCome for and experience the fun and scary results!
LOCATION:Bill Baggs Cape Florida State Park 1200 South Crandon Blvd Key Biscayne\, FL 33149
UID:e.330.16451
SEQUENCE:3
DTSTAMP:20260422T092839Z
URL:http://business.keybiscaynechamber.org/events/details/haunted-hike-2019-at-bill-baggs-16451
END:VEVENT

END:VCALENDAR
