BEGIN:VCALENDAR
VERSION:2.0
PRODID:-//ChamberMaster//Event Calendar 2.0//EN
METHOD:PUBLISH
X-PUBLISHED-TTL:P3D
REFRESH-INTERVAL:P3D
CALSCALE:GREGORIAN
BEGIN:VEVENT
DTSTART:20200131T233000Z
DTEND:20200201T013000Z
X-MICROSOFT-CDO-ALLDAYEVENT:FALSE
SUMMARY:Girls Night In for Teens
DESCRIPTION:Join Fit Start and the Key Biscayne Community Center for a fun night that includes snacks\, pizza\, a movie\, and jewelry making!
X-ALT-DESC;FMTTYPE=text/html:Join Fit Start and the Key Biscayne Community Center for a fun night that includes snacks\, pizza\, a movie\, and jewelry making!
LOCATION:Key Biscayne Community Center 10 Village Green Way Key Biscayne\, FL 33149 The Lighthouse Room\, 2nd Floor
UID:e.330.18599
SEQUENCE:3
DTSTAMP:20260421T074932Z
URL:http://business.keybiscaynechamber.org/events/details/girls-night-in-for-teens-18599
END:VEVENT

END:VCALENDAR
