BEGIN:VCALENDAR
VERSION:2.0
PRODID:-//ChamberMaster//Event Calendar 2.0//EN
METHOD:PUBLISH
X-PUBLISHED-TTL:P3D
REFRESH-INTERVAL:P3D
CALSCALE:GREGORIAN
BEGIN:VEVENT
DTSTART:20240313T220000Z
DTEND:20240313T231500Z
X-MICROSOFT-CDO-ALLDAYEVENT:FALSE
SUMMARY:Girl Power Workshop
DESCRIPTION:Middle school girls will benefit from learning emotional intelligence\, normalizing their feelings and understanding that being angry is OK or being sad is also OK! They'll learn ways to cope with those feelings in a healthy way\, and why it is so important to express feelings and not hide them due to group or society pressure.
X-ALT-DESC;FMTTYPE=text/html:<br />\n<span style="font-size:14px\;">Middle school girls will benefit from learning emotional intelligence\, normalizing their feelings and understanding that being angry is OK or being sad is also OK! They&#39\;ll learn ways to cope with those feelings in a healthy way\, and why it is so important to express feelings and not hide them due to group or society pressure.</span>
LOCATION:Motivating Minds
UID:e.330.22502
SEQUENCE:3
DTSTAMP:20260425T153733Z
URL:http://business.keybiscaynechamber.org/events/details/girl-power-workshop-03-13-2024-22502
END:VEVENT

END:VCALENDAR
