BEGIN:VCALENDAR
VERSION:2.0
PRODID:-//ChamberMaster//Event Calendar 2.0//EN
METHOD:PUBLISH
X-PUBLISHED-TTL:P3D
REFRESH-INTERVAL:P3D
CALSCALE:GREGORIAN
BEGIN:VEVENT
DTSTART:20240421T130000Z
DTEND:20240421T220000Z
X-MICROSOFT-CDO-ALLDAYEVENT:FALSE
SUMMARY:French Spring Market in Key Biscayne
DESCRIPTION:Welcome to the French Spring Market in Key Biscayne!\n\n\n\nEnjoy a delightful day filled with French-inspired goodies at the Village Green Park. Get ready to indulge in delicious pastries and browse through unique crafts.\n\n\n\nWhether you're a foodie\, a fashionista\, or just looking for a fun day out\, this event has something for everyone.\n\n\n\nDon't miss out on this opportunity to experience a taste of France and support the Artisans\, Creators\, Entrepreneurs right here in Key Biscayne!
X-ALT-DESC;FMTTYPE=text/html:<br />\n<br />\nWelcome to the French Spring Market in Key Biscayne!<br />\n<br />\nEnjoy a delightful day filled with French-inspired goodies at the Village Green Park. Get ready to indulge in delicious pastries and browse through unique crafts.<br />\n<br />\nWhether you&#39\;re a foodie\, a fashionista\, or just looking for a fun day out\, this event has something for everyone.<br />\n<br />\nDon&#39\;t miss out on this opportunity to experience a taste of France and support the Artisans\, Creators\, Entrepreneurs right here in Key Biscayne!<br />\n<br />\n&nbsp\;
LOCATION:Village Green Park
UID:e.330.22545
SEQUENCE:3
DTSTAMP:20260425T153558Z
URL:http://business.keybiscaynechamber.org/events/details/french-spring-market-in-key-biscayne-22545
END:VEVENT

END:VCALENDAR
