BEGIN:VCALENDAR
VERSION:2.0
PRODID:-//ChamberMaster//Event Calendar 2.0//EN
METHOD:PUBLISH
X-PUBLISHED-TTL:P3D
REFRESH-INTERVAL:P3D
CALSCALE:GREGORIAN
BEGIN:VEVENT
DTSTART:20190928T130000Z
DTEND:20190928T180000Z
X-MICROSOFT-CDO-ALLDAYEVENT:FALSE
SUMMARY:KB Farmer's Market
DESCRIPTION:The Farmer's Market takes place every Saturday at the Key Biscayne's Community Church with local farmers coming to the Key to sell their fresh goods.
X-ALT-DESC;FMTTYPE=text/html:The Farmer&#39\;s Market takes place every Saturday at the Key Biscayne&#39\;s Community Church with local farmers coming to the Key to sell their fresh goods.
LOCATION:355 Glenridge Rd\, Key Biscayne\, FL 33149
UID:e.330.7510
SEQUENCE:3
DTSTAMP:20260422T094106Z
URL:http://business.keybiscaynechamber.org/events/details/farmer-s-market-09-28-2019-7510
END:VEVENT

END:VCALENDAR
