BEGIN:VCALENDAR
VERSION:2.0
PRODID:-//ChamberMaster//Event Calendar 2.0//EN
METHOD:PUBLISH
X-PUBLISHED-TTL:P3D
REFRESH-INTERVAL:P3D
CALSCALE:GREGORIAN
BEGIN:VEVENT
DTSTART:20190905T133000Z
DTEND:20190905T163000Z
X-MICROSOFT-CDO-ALLDAYEVENT:FALSE
SUMMARY:eXpats Club Desayuno de Bienvenida
DESCRIPTION:Un a o m s\, les damos la bienvenida a las reci n llegadas a Miami y a nuestras veteranas con este desayuno. Sin duda\, una forma excelente de conocernos todas!
X-ALT-DESC;FMTTYPE=text/html:Un a&ntilde\;o m&aacute\;s\, les damos la bienvenida a las reci&eacute\;n llegadas a Miami y a nuestras veteranas con este desayuno. Sin duda\, una forma excelente de conocernos todas!
LOCATION:Lighthouse Cafe Bill Baggs Cape Florida State Park 1200 Crandon Boulevard Key Biscayne\, FL 33149
UID:e.330.16428
SEQUENCE:3
DTSTAMP:20260422T094113Z
URL:http://business.keybiscaynechamber.org/events/details/expats-club-desayuno-de-bienvenida-16428
END:VEVENT

END:VCALENDAR
