BEGIN:VCALENDAR
VERSION:2.0
PRODID:-//ChamberMaster//Event Calendar 2.0//EN
METHOD:PUBLISH
X-PUBLISHED-TTL:P3D
REFRESH-INTERVAL:P3D
CALSCALE:GREGORIAN
BEGIN:VEVENT
DTSTART:20260422T230000Z
DTEND:20260423T020000Z
X-MICROSOFT-CDO-ALLDAYEVENT:FALSE
SUMMARY:Earth Day Trivia!
DESCRIPTION:Earth Day Trivia Night  \n\nDate & Time: Wednesday\, April 22\, 2026 | 7:00 PM   10:00 PM\n\nLocation: Gramps Getaway\n\n3301 Rickenbacker Causeway\, Key Biscayne\, FL 33149\n\nDetails:\n\nCelebrate Earth Day with Miami Waterkeeper and The Everglades Foundation at a fun and meaningful trivia night!\n\n\n\nGather your team\, test your eco-knowledge\, enjoy drinks\, and connect with the community\, all while supporting efforts to protect our local waters.
X-ALT-DESC;FMTTYPE=text/html:&nbsp\;\n<p data-end="143" data-start="101"><strong><span style="font-size:20px\;">Earth Day Trivia Night &#127758\;</span></strong></p>\n\n<p data-end="210" data-start="145"><strong data-end="161" data-start="145">Date &amp\; Time:</strong> Wednesday\, April 22\, 2026 | 7:00 PM &ndash\; 10:00 PM</p>\n\n<p data-end="295" data-start="212"><span style="font-size:16px\;"><strong data-end="225" data-start="212">Location:</strong> Gramps Getaway<br data-end="243" data-start="240" />\n3301 Rickenbacker Causeway\, Key Biscayne\, FL 33149</span></p>\n\n<p data-end="568" data-start="297"><span style="font-size:16px\;"><strong data-end="309" data-start="297">Details:</strong><br data-end="312" data-start="309" />\nCelebrate Earth Day with Miami Waterkeeper and The Everglades Foundation at a fun and meaningful trivia night!<br />\n<br />\nGather your team\, test your eco-knowledge\, enjoy drinks\, and connect with the community\, all while supporting efforts to protect our local waters.</span></p>\n\n<p data-end="595" data-start="570">&nbsp\;</p>\n
LOCATION:Gramps Getaway Key Biscayne
UID:e.330.24417
SEQUENCE:3
DTSTAMP:20260422T183411Z
URL:http://business.keybiscaynechamber.org/events/details/earth-day-trivia-24417
END:VEVENT

END:VCALENDAR
