BEGIN:VCALENDAR
VERSION:2.0
PRODID:-//ChamberMaster//Event Calendar 2.0//EN
METHOD:PUBLISH
X-PUBLISHED-TTL:P3D
REFRESH-INTERVAL:P3D
CALSCALE:GREGORIAN
BEGIN:VEVENT
DTSTART:20240121T000000Z
DTEND:20240121T043000Z
X-MICROSOFT-CDO-ALLDAYEVENT:FALSE
SUMMARY:Dominoes for Education
DESCRIPTION:Join us for an evening of traditional Cuban and tropical fare\, open mojito bar\, wine\, beer\, live music\, fun\, and a chance to partake in a friendly game of dominos!\n\n\n\nOn January 20\, 2024\, the Liberty City Scholarship Fund at Miami Dade College\, in partnership with the Rotary Club of Key Biscayne\, will host the second annual Dominos for Education\, a fun-filled night full of traditions and a friendly double-nine domino tournament. All the proceeds gained from this event are used to make a difference and better the lives of students living in Liberty City\, Key Biscayne's Sister City.
X-ALT-DESC;FMTTYPE=text/html:<br />\n<br />\nJoin us for an evening of traditional Cuban and tropical fare\, open mojito bar\, wine\, beer\, live music\, fun\, and a chance to partake in a friendly game of dominos!<br />\n<br />\nOn January 20\, 2024\, the Liberty City Scholarship Fund at Miami Dade College\, in partnership with the Rotary Club of Key Biscayne\, will host the second annual Dominos for Education\, a fun-filled night full of traditions and a friendly double-nine domino tournament. All the proceeds gained from this event are used to make a difference and better the lives of students living in Liberty City\, Key Biscayne&rsquo\;s Sister City.
LOCATION:Key Biscayne Beach Club
UID:e.330.22454
SEQUENCE:3
DTSTAMP:20260425T182629Z
URL:http://business.keybiscaynechamber.org/events/details/dominoes-for-education-22454
END:VEVENT

END:VCALENDAR
