BEGIN:VCALENDAR
VERSION:2.0
PRODID:-//ChamberMaster//Event Calendar 2.0//EN
METHOD:PUBLISH
X-PUBLISHED-TTL:P3D
REFRESH-INTERVAL:P3D
CALSCALE:GREGORIAN
BEGIN:VEVENT
DTSTART:20240411T213000Z
DTEND:20240411T223000Z
X-MICROSOFT-CDO-ALLDAYEVENT:FALSE
SUMMARY:Digital Media Marketing Series Workshop
DESCRIPTION:Miami-Dade County Commissioner Raquel A. Regalado\n\nDistrict 7\n\nDigital Media Marketing Series Workshop\nThe Latin Chamber of Commerce of the United States\, CAMACOL\, in partnership with Commissioner Raquel Regalado's office\, is hosting a digital media marketing workshop for beginners interested in Animation/Gaming/VFX/Film/TV/Content Creators. In two live sessions\, learn about the following.\n\n\n\nApril 11 at 5:30 p.m. - 6:30 p.m. (English)\n\nRetain and monetize a digital audience\n\n5825 SW 68 Street\, Suite 101\n\nSouth Miami\, FL 33143\n\n\n\nFree Event & Parking!\n\nSeating is limited. To sign up\, email communications@camacol.org
X-ALT-DESC;FMTTYPE=text/html:<h2 align="center" style="font-family: -webkit-standard\; text-size-adjust: auto\; text-align: center\;"><br />\n<strong><span style="font-family:arial\;"><span style="font-size: 16.5pt\;"><span style="font-size:20px\;">Miami-Dade County Commissioner Raquel A. Regalado<br />\nDistrict 7</span><br />\n<span style="font-size:14px\;">Digital Media Marketing Series Workshop</span></span></span></strong></h2>\n<span style="font-size:14px\;">The Latin Chamber of Commerce of the United States\, CAMACOL\, in partnership with Commissioner Raquel Regalado&#39\;s office\, is hosting a digital media marketing workshop for beginners interested in Animation/Gaming/VFX/Film/TV/Content Creators. In two live sessions\, learn about the following.</span>\n\n<p align="center" style="font-family: -webkit-standard\; text-size-adjust: auto\; text-align: center\;"><br />\n<b><span style="font-size: 12pt\; font-family: Arial\, sans-serif\;">April 11 at 5:30 p.m. - 6:30 p.m. (English)</span></b><br />\n<span style="font-size: 12pt\; font-family: Arial\, sans-serif\;">Retain and monetize a digital audience<br />\n5825 SW 68 Street\, Suite 101<br />\nSouth Miami\, FL 33143<br />\n<br />\n<b>Free Event &amp\; Parking!</b></span></p>\n\n<p align="center" style="font-family: -webkit-standard\; text-size-adjust: auto\; text-align: center\;"><span style="font-size: 12pt\; font-family: Arial\, sans-serif\;">Seating is limited. To sign up\, email <a href="mailto:communications@camacol.org?subject=" target="_blank" title="communications@camacol.org"><span style="text-decoration-line: none\;">communications@camacol.org</span></a>&nbsp\;</span></p>\n<br />\n&nbsp\;
LOCATION:
UID:e.330.22547
SEQUENCE:3
DTSTAMP:20260425T141045Z
URL:http://business.keybiscaynechamber.org/events/details/digital-media-marketing-series-workshop-22547
END:VEVENT

END:VCALENDAR
