BEGIN:VCALENDAR
VERSION:2.0
PRODID:-//ChamberMaster//Event Calendar 2.0//EN
METHOD:PUBLISH
X-PUBLISHED-TTL:P3D
REFRESH-INTERVAL:P3D
CALSCALE:GREGORIAN
BEGIN:VEVENT
DTSTART:20240418T213000Z
DTEND:20240418T223000Z
X-MICROSOFT-CDO-ALLDAYEVENT:FALSE
SUMMARY:Digital Media Marketing Series Workshop
DESCRIPTION:Miami-Dade County Commissioner Raquel A. Regalado\n\nDistrict 7\n\nDigital Media Marketing Series Workshop\nThe Latin Chamber of Commerce of the United States\, CAMACOL\, in partnership with Commissioner Raquel Regalado's office\, is hosting a digital media marketing workshop for beginners interested in Animation/Gaming/VFX/Film/TV/Content Creators. In two live sessions\, learn about the following.\n\n\n\nApril 18 at 5:30 p.m. - 6:30 p.m. (English)\n\nTransition from digital audience broadcast/streaming media \n\n5825 SW 68 Street\, Suite 101\n\nSouth Miami\, FL 33143\n\n\n\nFree Event & Parking!\n\nSeating is limited. To sign up\, email communications@camacol.org
X-ALT-DESC;FMTTYPE=text/html:&nbsp\;\n<h2 align="center" style="box-sizing: border-box\; font-family: -webkit-standard\; font-weight: 400\; line-height: 1.4\; color: rgb(85\, 85\, 85)\; margin-top: 0px\; margin-bottom: 0.5rem\; font-size: 30px\; background-color: rgb(255\, 255\, 255)\; text-size-adjust: auto\; text-align: center\;"><span style="box-sizing: border-box\; font-weight: bolder\;"><span style="box-sizing: border-box\; font-family: arial\;"><span style="box-sizing: border-box\; font-size: 16.5pt\;"><span style="box-sizing: border-box\; font-size: 20px\;">Miami-Dade County Commissioner Raquel A. Regalado<br style="box-sizing: border-box\;" />\nDistrict 7</span><br style="box-sizing: border-box\;" />\n<span style="box-sizing: border-box\; font-size: 14px\;">Digital Media Marketing Series Workshop</span></span></span></span></h2>\n<span style="box-sizing: border-box\; color: rgb(85\, 85\, 85)\; font-family: Lato\, sans-serif\; background-color: rgb(255\, 255\, 255)\; font-size: 14px\;">The Latin Chamber of Commerce of the United States\, CAMACOL\, in partnership with Commissioner Raquel Regalado&#39\;s office\, is hosting a digital media marketing workshop for beginners interested in Animation/Gaming/VFX/Film/TV/Content Creators. In two live sessions\, learn about the following.</span>\n\n<p align="center" style="box-sizing: border-box\; margin: 0px 0px 1rem\; outline: 0px\; color: rgb(85\, 85\, 85)\; font-size: 16px\; background-color: rgb(255\, 255\, 255)\; font-family: -webkit-standard\; text-size-adjust: auto\; text-align: center\;"><br style="box-sizing: border-box\;" />\n<span style="box-sizing: border-box\; font-size: 12pt\; font-family: Arial\, sans-serif\;"><span style="box-sizing: border-box\; font-weight: bolder\;">April 18 at 5:30 p.m. - 6:30 p.m. (English)</span><br style="box-sizing: border-box\;" />\nTransition from digital audience broadcast/streaming media<span style="box-sizing: border-box\; font-weight: bolder\;">&nbsp\;</span><br style="box-sizing: border-box\;" />\n5825 SW 68 Street\, Suite 101<br style="box-sizing: border-box\;" />\nSouth Miami\, FL 33143<br style="box-sizing: border-box\;" />\n<br style="box-sizing: border-box\;" />\n<span style="box-sizing: border-box\; font-weight: bolder\;">Free Event &amp\; Parking!</span></span></p>\n\n<p align="center" style="box-sizing: border-box\; margin: 0px 0px 1rem\; color: rgb(85\, 85\, 85)\; font-size: 16px\; background-color: rgb(255\, 255\, 255)\; font-family: -webkit-standard\; text-size-adjust: auto\; text-align: center\;"><span style="box-sizing: border-box\; font-size: 12pt\; font-family: Arial\, sans-serif\;">Seating is limited. To sign up\, email&nbsp\;<a href="mailto:communications@camacol.org?subject=" style="box-sizing: border-box\; background-color: transparent\; color: rgb(25\, 117\, 145)\; text-decoration-line: none\; overflow-wrap: break-word\;" target="_blank" title="communications@camacol.org"><span style="box-sizing: border-box\;">communications@camacol.org</span></a>&nbsp\;</span></p>\n\n<div>&nbsp\;</div>\n
LOCATION:
UID:e.330.22548
SEQUENCE:3
DTSTAMP:20260425T141211Z
URL:http://business.keybiscaynechamber.org/events/details/digital-media-marketing-series-workshop-04-18-2024-22548
END:VEVENT

END:VCALENDAR
