BEGIN:VCALENDAR
VERSION:2.0
PRODID:-//ChamberMaster//Event Calendar 2.0//EN
METHOD:PUBLISH
X-PUBLISHED-TTL:P3D
REFRESH-INTERVAL:P3D
CALSCALE:GREGORIAN
BEGIN:VEVENT
DTSTART:20220628T003000Z
DTEND:20220628T003000Z
X-MICROSOFT-CDO-ALLDAYEVENT:FALSE
SUMMARY:Creative Tech Summer Camps @ Minds of Tomorrow!
DESCRIPTION:Creative Tech Summer Camps offer a boost of confidence\, imagination and innovation . Steering children's creative thinking\, daily activities consist of arts and crafts\, coding\, digital media and engineering.
X-ALT-DESC;FMTTYPE=text/html:<span style="font-size:16px\;"><span style="font-family:helvetica">Creative Tech Summer Camps offer a boost of confidence\, imagination and innovation . Steering children&#39\;s&nbsp\;creative thinking\, daily activities consist of arts and crafts\, coding\, digital media and engineering.</span></span>
LOCATION:Minds of Tomorrow
UID:e.330.21822
SEQUENCE:3
DTSTAMP:20260420T082357Z
URL:http://business.keybiscaynechamber.org/events/details/creative-tech-summer-camps-minds-of-tomorrow-06-27-2022-21822
END:VEVENT

END:VCALENDAR
