BEGIN:VCALENDAR
VERSION:2.0
PRODID:-//ChamberMaster//Event Calendar 2.0//EN
METHOD:PUBLISH
X-PUBLISHED-TTL:P3D
REFRESH-INTERVAL:P3D
CALSCALE:GREGORIAN
BEGIN:VEVENT
DTSTART:20240525T130000Z
DTEND:20240525T150000Z
X-MICROSOFT-CDO-ALLDAYEVENT:FALSE
SUMMARY:Crandon Park Coastal Cleanup
DESCRIPTION:Upcoming Shoreline Cleanup near you!\n\n\n\nOn the fourth Saturday of every month\, volunteers can assist the Crandon Park staff and beautify this coastal park to keep our ocean ecosystem healthy. This opportunity is made possible with the support of The Miami Seaquarium's Green Team. The Miami Seaquarium pursues conservation of the natural world through education\, rehabilitation\, and sustainability.\n\n\n\nResponsibilities and Duties:   Removing microplastics and trash along Crandon Park South   Additional tasks as needed Qualifications: Youth under 15 must have a parent/guardian present. Seaquarium staff will provide gloves\, trash bags\, and other tools needed for your volunteer activity. Volunteers should bring their own refillable water bottle to stay hydrated and any personal snacks. We suggest wearing closed-toed shoes\, comfortable clothes that will get dirty\, and a hat/sunscreen to protect from the sun. Community service hours letters will be emailed\, by request\, following the event.
X-ALT-DESC;FMTTYPE=text/html:<br />\nUpcoming Shoreline Cleanup near you!<br />\n<br />\nOn the fourth Saturday of every month\, volunteers can assist the Crandon Park staff and beautify this coastal park to keep our ocean ecosystem healthy. This opportunity is made possible with the support of The Miami Seaquarium&rsquo\;s Green Team. The Miami Seaquarium pursues conservation of the natural world through education\, rehabilitation\, and sustainability.<br />\n<br />\nResponsibilities and Duties: &ndash\; Removing microplastics and trash along Crandon Park South &ndash\; Additional tasks as needed Qualifications: Youth under 15 must have a parent/guardian present. Seaquarium staff will provide gloves\, trash bags\, and other tools needed for your volunteer activity. Volunteers should bring their own refillable water bottle to stay hydrated and any personal snacks. We suggest wearing closed-toed shoes\, comfortable clothes that will get dirty\, and a hat/sunscreen to protect from the sun. Community service hours letters will be emailed\, by request\, following the event.
LOCATION:Crandon Park\, Crandon Boulevard\, Key Biscayne\, FL
UID:e.330.22593
SEQUENCE:3
DTSTAMP:20260425T141044Z
URL:http://business.keybiscaynechamber.org/events/details/crandon-park-coastal-cleanup-22593
END:VEVENT

END:VCALENDAR
