BEGIN:VCALENDAR
VERSION:2.0
PRODID:-//ChamberMaster//Event Calendar 2.0//EN
METHOD:PUBLISH
X-PUBLISHED-TTL:P3D
REFRESH-INTERVAL:P3D
CALSCALE:GREGORIAN
BEGIN:VEVENT
DTSTART:20211218T190000Z
DTEND:20211219T000000Z
X-MICROSOFT-CDO-ALLDAYEVENT:FALSE
SUMMARY:Cookies & Hot Cocoa at Virginia Key Beach Park
DESCRIPTION:Come and enjoy the holiday season at the Virginia Key Beach Park. Event include pictures with Santa (4-6 PM) and an Ugly Sweater Contest (5 PM).
X-ALT-DESC;FMTTYPE=text/html:<br />\nCome and enjoy the holiday season at the Virginia Key Beach Park. Event include pictures with Santa (4-6 PM) and an Ugly Sweater Contest (5 PM).
LOCATION:Historic Virginia Key Beach Park
UID:e.330.21363
SEQUENCE:3
DTSTAMP:20260419T205431Z
URL:http://business.keybiscaynechamber.org/events/details/cookies-hot-cocoa-at-virginia-key-beach-park-21363
END:VEVENT

END:VCALENDAR
