BEGIN:VCALENDAR
VERSION:2.0
PRODID:-//ChamberMaster//Event Calendar 2.0//EN
METHOD:PUBLISH
X-PUBLISHED-TTL:P3D
REFRESH-INTERVAL:P3D
CALSCALE:GREGORIAN
BEGIN:VEVENT
DTSTART:20240424T220000Z
DTEND:20240425T000000Z
X-MICROSOFT-CDO-ALLDAYEVENT:FALSE
SUMMARY:Community Outreach Meeting
DESCRIPTION:Join the Village of Key Biscayne Police Department for a vital community outreach event!\n\n\n\nGet empowered with essential insights on human trafficking\, internet safety for children\, and summer safety tips.\n\n\n\nA must-attend for families looking to safeguard their loved ones.\n\n\n\nTransform awareness into action for a safer future.
X-ALT-DESC;FMTTYPE=text/html:<br />\n<br />\nJoin the Village of Key Biscayne Police Department for a vital community outreach event!<br />\n<br />\nGet empowered with essential insights on human trafficking\, internet safety for children\, and summer safety tips.<br />\n<br />\nA must-attend for families looking to safeguard their loved ones.<br />\n<br />\nTransform awareness into action for a safer future.
LOCATION:Village Hall Community Room Room 120
UID:e.330.22546
SEQUENCE:3
DTSTAMP:20260425T141219Z
URL:http://business.keybiscaynechamber.org/events/details/community-outreach-meeting-22546
END:VEVENT

END:VCALENDAR
