BEGIN:VCALENDAR
VERSION:2.0
PRODID:-//ChamberMaster//Event Calendar 2.0//EN
METHOD:PUBLISH
X-PUBLISHED-TTL:P3D
REFRESH-INTERVAL:P3D
CALSCALE:GREGORIAN
BEGIN:VEVENT
DTSTART:20240106T160000Z
DTEND:20240106T180000Z
X-MICROSOFT-CDO-ALLDAYEVENT:FALSE
SUMMARY:Coastal Cleanup at Diver's Paradise
DESCRIPTION:Join Diver's Paradise and Miami Eco Adventures for a Coastal Cleanup!\n\n\n\nCome and join us to keep our Marina Waste-Free!\n\n\n\nCommunity Service Hours available. \n\n\n\nClick to REGISTER
X-ALT-DESC;FMTTYPE=text/html:<br />\n<br />\nJoin Diver&#39\;s Paradise and Miami Eco Adventures for a Coastal Cleanup!<br />\n<br />\nCome and join us to keep our Marina Waste-Free!<br />\n<br />\nCommunity Service Hours available.&nbsp\;<br />\n<br />\n<a href="https://miamidadeparks.com/FL/miami-dade-county-parks-recreation/catalog?filter=c2VhcmNoPTEyOTU1MDM=">Click to REGISTER</a>
LOCATION:
UID:e.330.22450
SEQUENCE:3
DTSTAMP:20260425T182656Z
URL:http://business.keybiscaynechamber.org/events/details/coastal-cleanup-at-diver-s-paradise-22450
END:VEVENT

END:VCALENDAR
