BEGIN:VCALENDAR
VERSION:2.0
PRODID:-//ChamberMaster//Event Calendar 2.0//EN
METHOD:PUBLISH
X-PUBLISHED-TTL:P3D
REFRESH-INTERVAL:P3D
CALSCALE:GREGORIAN
BEGIN:VEVENT
DTSTART:20190815T230000Z
DTEND:20190816T000000Z
X-MICROSOFT-CDO-ALLDAYEVENT:FALSE
SUMMARY:Citizen Scientist Project Lecture Series
DESCRIPTION:Snowbirds & Concerts: A short story about shorebirds visiting Key Biscayne & Virginia Key. Refreshments will be served.
X-ALT-DESC;FMTTYPE=text/html:Snowbirds &amp\; Concerts: A short story about shorebirds visiting Key Biscayne &amp\; Virginia Key. Refreshments will be served.
LOCATION:Key Biscayne Community Center Lighthouse Rm\, 2nd Floor 10 Village Green Way
UID:e.330.16421
SEQUENCE:3
DTSTAMP:20260422T123233Z
URL:http://business.keybiscaynechamber.org/events/details/citizen-scientist-project-lecture-series-08-15-2019-16421
END:VEVENT

END:VCALENDAR
