BEGIN:VCALENDAR
VERSION:2.0
PRODID:-//ChamberMaster//Event Calendar 2.0//EN
METHOD:PUBLISH
X-PUBLISHED-TTL:P3D
REFRESH-INTERVAL:P3D
CALSCALE:GREGORIAN
BEGIN:VEVENT
DTSTART:20211103T210000Z
DTEND:20211103T230000Z
X-MICROSOFT-CDO-ALLDAYEVENT:FALSE
SUMMARY:Chamber Networker at Winn-Dixie Taproom
DESCRIPTION:Join us for our first in-person Chamber networker of 2021. Enjoy an evening of networking with complimentary bites\, happy hour prices on drinks and gift card raffles for free shopping at Winn-Dixie.
X-ALT-DESC;FMTTYPE=text/html:<br />\n<br />\nJoin us for our first in-person Chamber networker of 2021. Enjoy an evening of networking with complimentary bites\, happy hour prices on drinks and gift card raffles for free shopping at Winn-Dixie.<br />\n<br />\n&nbsp\;
LOCATION:Winn-Dixie Key Biscayne
UID:e.330.21328
SEQUENCE:3
DTSTAMP:20260419T152128Z
URL:http://business.keybiscaynechamber.org/events/details/chamber-networker-at-winn-dixie-taproom-21328
END:VEVENT

END:VCALENDAR
