BEGIN:VCALENDAR
VERSION:2.0
PRODID:-//ChamberMaster//Event Calendar 2.0//EN
METHOD:PUBLISH
X-PUBLISHED-TTL:P3D
REFRESH-INTERVAL:P3D
CALSCALE:GREGORIAN
BEGIN:VEVENT
DTSTART:20190919T010000Z
DTEND:20190919T023000Z
X-MICROSOFT-CDO-ALLDAYEVENT:FALSE
SUMMARY:Café Caliente con Amigas en Milanezza
DESCRIPTION:Argentine comedian Clara Ulrich presents her NEW Stand Up Comedy "Hot Coffee with Friends" ???? ? A non-stop journey through all the funniest anecdotes we have lived with our friends about love and sex.\n\n\n\nLa comediante argentina Clara Ulrich presenta su NUEVO Stand Up Comedy "Caf  Caliente con Amigas" Un viaje sin escalas por todas las an cdotas m s divertidas que hemos vivido con nuestras amigas sobre el amor y el sexo. Apto para todo tipo de amigas que quieran re rse sin parar y festejar su amistad!
X-ALT-DESC;FMTTYPE=text/html:Argentine comedian Clara Ulrich presents her NEW Stand Up Comedy &ldquo\;Hot Coffee with Friends&rdquo\; ???? ? A non-stop journey through all the funniest anecdotes we have lived with our friends about love and sex.<br />\n<br />\nLa comediante argentina Clara Ulrich presenta su NUEVO Stand Up Comedy &ldquo\;Caf&eacute\; Caliente con Amigas&rdquo\; Un viaje sin escalas por todas las an&eacute\;cdotas m&aacute\;s divertidas que hemos vivido con nuestras amigas sobre el amor y el sexo. Apto para todo tipo de amigas que quieran re&iacute\;rse sin parar y festejar su amistad!
LOCATION:Milanezza 700 Crandon Blvd Key Biscayne\, FL 33149
UID:e.330.16446
SEQUENCE:3
DTSTAMP:20260422T073459Z
URL:http://business.keybiscaynechamber.org/events/details/caf&#233;-caliente-con-amigas-en-milanezza-16446
END:VEVENT

END:VCALENDAR
