BEGIN:VCALENDAR
VERSION:2.0
PRODID:-//ChamberMaster//Event Calendar 2.0//EN
METHOD:PUBLISH
X-PUBLISHED-TTL:P3D
REFRESH-INTERVAL:P3D
CALSCALE:GREGORIAN
BEGIN:VEVENT
DTSTART:20240316T160000Z
DTEND:20240316T220000Z
X-MICROSOFT-CDO-ALLDAYEVENT:FALSE
SUMMARY:"Be Out Day" Miami Scholarship Picnic
DESCRIPTION:Be Out Day Miami is a fun family and community picnic infused with a taste of FAMU's unique and historical culture\, spirit with our one-of-a kind Miami vibe.\n\n\n\nCome BE OUTside with the FAMU Rattlers and enjoy music\, food\, live performances and more! Register for the event at: https://bit.ly/FAMUBODMiami24\n\n\n\nFor more information please follow @beoutdaymiami on Instagram! #famu #beoutday #famualumni
X-ALT-DESC;FMTTYPE=text/html:<br />\n<br />\n<span style="color:rgb(0\, 0\, 0)\; font-family:calibri\,arial\,helvetica\,sans-serif\; font-size:16px">Be</span><span style="color:rgb(0\, 0\, 0)\; font-family:calibri\,arial\,helvetica\,sans-serif\; font-size:16px">&nbsp\;</span><span style="color:rgb(0\, 0\, 0)\; font-family:calibri\,arial\,helvetica\,sans-serif\; font-size:16px">Out</span><span style="color:rgb(0\, 0\, 0)\; font-family:calibri\,arial\,helvetica\,sans-serif\; font-size:16px">&nbsp\;Day Miami is a fun family and community picnic infused with a taste of FAMU&rsquo\;s unique and historical culture\, spirit with our one-of-a kind Miami vibe.<br />\n<br />\nCome&nbsp\;BE&nbsp\;OUTside with the FAMU Rattlers and enjoy&nbsp\;music\, food\, live performances and more! Register for the event at:&nbsp\;</span><a href="https://urldefense.com/v3/__https://bit.ly/FAMUBODMiami24__\;!!Ei5NnPD8gA!kugSWKvFucExiOSVURHipk6M9eummAGJYqC0Lx2p43MuHLnCCzOiDAN2kpdvxWqDI7Z2pPJubOHm9wJisY-MgUj26g$" style="color: rgb(17\, 85\, 204)\; font-family: Calibri\, Arial\, Helvetica\, sans-serif\; font-size: 16px\;" target="_blank">https://bit.ly/FAMUBODMiami24</a><br />\n<br />\n<span style="color:rgb(0\, 0\, 0)\; font-family:calibri\,arial\,helvetica\,sans-serif\; font-size:16px">For more information please follow&nbsp\;</span><span style="color:rgb(0\, 0\, 0)\; font-family:calibri\,arial\,helvetica\,sans-serif\; font-size:12pt">@beoutdaymiami on Instagram!&nbsp\;</span><span style="color:rgb(0\, 0\, 0)\; font-family:calibri\,arial\,helvetica\,sans-serif\; font-size:16px">#famu #beoutday #famualumni</span>
LOCATION:Historic Virginia Key Beach Park\, North Beach
UID:e.330.22521
SEQUENCE:3
DTSTAMP:20260425T153739Z
URL:http://business.keybiscaynechamber.org/events/details/be-out-day-miami-scholarship-picnic-22521
END:VEVENT

END:VCALENDAR
