BEGIN:VCALENDAR
VERSION:2.0
PRODID:-//ChamberMaster//Event Calendar 2.0//EN
METHOD:PUBLISH
X-PUBLISHED-TTL:P3D
REFRESH-INTERVAL:P3D
CALSCALE:GREGORIAN
BEGIN:VEVENT
DTSTART:20240420T220000Z
DTEND:20240421T030000Z
X-MICROSOFT-CDO-ALLDAYEVENT:FALSE
SUMMARY:BBQ Fundraiser 4th of July
DESCRIPTION:Join us at this year's Fourth of July Parade BBQ Fundraiser! This year's BBQ fundraiser for the 65th annual KB 4th of July Parade will be held on Saturday\, April 20th from 6-11pm at the Key Biscayne Beach Club.
X-ALT-DESC;FMTTYPE=text/html:<br />\n<span style="font-size:18px\;">Join us at this year&rsquo\;s Fourth of July Parade BBQ Fundraiser! This year&rsquo\;s BBQ fundraiser for the 65th annual KB 4th of July Parade will be held on Saturday\, April 20th from 6-11pm at the Key Biscayne Beach Club.</span>
LOCATION:Key Biscayne Beach Club
UID:e.330.22540
SEQUENCE:3
DTSTAMP:20260425T141204Z
URL:http://business.keybiscaynechamber.org/events/details/bbq-fundraiser-4th-of-july-22540
END:VEVENT

END:VCALENDAR
