BEGIN:VCALENDAR
VERSION:2.0
PRODID:-//ChamberMaster//Event Calendar 2.0//EN
METHOD:PUBLISH
X-PUBLISHED-TTL:P3D
REFRESH-INTERVAL:P3D
CALSCALE:GREGORIAN
BEGIN:VEVENT
DTSTART:20200403T160000Z
DTEND:20200403T230000Z
X-MICROSOFT-CDO-ALLDAYEVENT:FALSE
SUMMARY:Act4Me 8th Annual Charity Golf Tournament
DESCRIPTION:Act4Me is a local non-profit organization whose mission is to improve the lives of underprivileged children with neurological and/or genetic disorders and disabilities in Miami-Dade and Broward county\, supporting their families with financial resources for vital therapies\, enabling them to reach their highest potential.\n\n\n\nTheir Annual Charity Golf Tournament at Crandon Golf Course raises money to fund for the children's therapy program.
X-ALT-DESC;FMTTYPE=text/html:Act4Me is a local non-profit organization whose mission is to improve the lives of underprivileged children with neurological and/or genetic disorders and disabilities in Miami-Dade and Broward county\, supporting their families with financial resources for vital therapies\, enabling them to reach their highest potential.<br />\n<br />\nTheir Annual Charity Golf Tournament at Crandon Golf Course raises money to fund for the children&#39\;s therapy program.
LOCATION:6700 Crandon Blvd. Key Biscayne\, FL 33149
UID:e.330.18630
SEQUENCE:3
DTSTAMP:20260420T050540Z
URL:http://business.keybiscaynechamber.org/events/details/act4me-8th-annual-charity-golf-tournament-18630
END:VEVENT

END:VCALENDAR
