BEGIN:VCALENDAR
VERSION:2.0
PRODID:-//ChamberMaster//Event Calendar 2.0//EN
METHOD:PUBLISH
X-PUBLISHED-TTL:P3D
REFRESH-INTERVAL:P3D
CALSCALE:GREGORIAN
BEGIN:VEVENT
DTSTART:20191212T160000Z
DTEND:20191212T190000Z
X-MICROSOFT-CDO-ALLDAYEVENT:FALSE
SUMMARY:50 Years of Environmental Education Celebration
DESCRIPTION:Miami-Dade County Public Schools (M-DCPS) Schools Superintendent Alberto M. Carvalho will celebrate the 50th anniversary of environmental education in the County. There will be keynote speakers\, a 30 minute documentary\, lunch and participants will be able to observe environmental education field trips for M-DCPS schools West Miami Middle School and Dr. Edward L. Whigham Elementary School.
X-ALT-DESC;FMTTYPE=text/html:Miami-Dade County Public Schools (M-DCPS) Schools Superintendent Alberto M. Carvalho will celebrate the 50th anniversary of environmental education in the County. There will be keynote speakers\, a 30 minute documentary\, lunch and participants will be able to observe environmental education field trips for M-DCPS schools West Miami Middle School and Dr. Edward L. Whigham Elementary School.
LOCATION:Marjory Stoneman Douglas Biscayne Nature Center 6767 Crandon Boulevard Key Biscayne\, FL 33149
UID:e.330.18568
SEQUENCE:3
DTSTAMP:20260421T091004Z
URL:http://business.keybiscaynechamber.org/events/details/50-years-of-environmental-education-celebration-18568
END:VEVENT

END:VCALENDAR
