BEGIN:VCALENDAR
VERSION:2.0
PRODID:-//ChamberMaster//Event Calendar 2.0//EN
METHOD:PUBLISH
X-PUBLISHED-TTL:P3D
REFRESH-INTERVAL:P3D
CALSCALE:GREGORIAN
BEGIN:VEVENT
DTSTART:20191109T120000Z
DTEND:20191109T170000Z
X-MICROSOFT-CDO-ALLDAYEVENT:FALSE
SUMMARY:42nd Annual Key Biscayne Lighthouse Run & Walk
DESCRIPTION:Get inspired to run at the 42nd Annual Key Biscayne Lighthouse 10K/5K Run! The course starts and finishes near the base of the historical Cape Florida Lighthouse\, going through the State Park and the beautiful Village of Key Biscayne. Water stations\, clocks\, and volunteers stand along the way to help with directions and encourage you! Pre- and post-race\, there are vendors with food\, as well as free snacks and massages provided to runners. Motivate yourself to place top three in your age category\, to get up on stage for a medal! Race packets (containing your race number and t-shirts) for all online registrations will be available at The Court Sports Gear (79 Harbor Dr).\n\n\n\nPacket pick up:\n\n\n\nRace packets (containing your race number and t-shirts) for all online registrations received ON or Before Friday\, November 1st will be available at The Court Sports Gear\, 79 Harbor Drive\, Key Biscayne\, from Monday\, November 4th through Friday\, November 8th. \n\n\n\nYou can also register in person at The Court Sports Gear from Monday\, November 4th through Friday November 8th. \n\n\n\nPacket pickup and in-person registration at The Court Sports Gear closes at 5 pm on Friday\, November 8th. Online registration also closes at 5 pm on Friday\, November 8th. \n\n\n\nAll other race packets\, (including ones not picked up at The Courts Sports Gear) will be available starting at 6:15 am on the morning of the race.\n\n\n\nNote: There is No Race Day registration.\n\n\n\nImportant: Please arrive early. The gates to Bill Baggs State Park will close promptly at 7:15 am in order to clear the course for the runners. \n\n \n\n\n\n \n\n\n\nThe 2019\, 42nd Annual Key Biscayne Lighthouse 10K/5K Run starts and finishes near the base of the historical Cape Florida Lighthouse in Bill Baggs State Park. Both races run through the State Park and the beautiful Village of Key Biscayne. Free state park entrance\, water stations and race clocks throughout course.  Food\, water\, adult beverages\, music and massages for all runners after the race.
X-ALT-DESC;FMTTYPE=text/html:Get inspired to run at the 42nd Annual Key Biscayne Lighthouse 10K/5K Run! The course starts and finishes near the base of the historical Cape Florida Lighthouse\, going through the State Park and the beautiful Village of Key Biscayne. Water stations\, clocks\, and volunteers stand along the way to help with directions and encourage you! Pre- and post-race\, there are vendors with food\, as well as free snacks and massages provided to runners. Motivate yourself to place top three in your age category\, to get up on stage for a medal! Race packets (containing your race number and t-shirts) for all online registrations will be available at <a href="https://www.thecourtsportskb.com/">The Court Sports Gear</a> (79 Harbor Dr).<br />\n<br />\nPacket pick up:<br />\n<br />\nRace packets (containing your race number and t-shirts) for all online registrations received ON or Before Friday\, November 1st will be available at The Court Sports Gear\, 79 Harbor Drive\, Key Biscayne\, from Monday\, November 4th through Friday\, November 8th.&nbsp\;<br />\n<br />\nYou can also register in person at The Court Sports Gear from Monday\, November 4th through Friday November 8th.&nbsp\;<br />\n<br />\nPacket pickup and in-person registration at The Court Sports Gear closes at 5 pm on Friday\, November 8th. Online registration also closes at 5 pm on Friday\, November 8th.&nbsp\;<br />\n<br />\nAll other race packets\, (including ones not picked up at The Courts Sports Gear) will be available starting at 6:15 am on the morning of the race.<br />\n<br />\nNote: There is No Race Day registration.<br />\n<br />\nImportant: Please arrive early. The gates to Bill Baggs State Park will close promptly at 7:15 am in order to clear the course for the runners.&nbsp\;<br />\n&nbsp\;<br />\n<br />\n&nbsp\;<br />\n<br />\nThe 2019\, 42nd Annual Key Biscayne Lighthouse 10K/5K Run starts and finishes near the base of the historical Cape Florida Lighthouse in Bill Baggs State Park. Both races run through the State Park and the beautiful Village of Key Biscayne. Free state park entrance\, water stations and race clocks throughout course.&nbsp\; Food\, water\, adult beverages\, music and massages for all runners after the race.<br />\n&nbsp\;
LOCATION:Bill Baggs Florida State Park 1200 South Crandon Blvd Key Biscayne\, FL 33149
UID:e.330.15636
SEQUENCE:3
DTSTAMP:20260421T150229Z
URL:http://business.keybiscaynechamber.org/events/details/42nd-annual-key-biscayne-lighthouse-run-walk-15636
END:VEVENT

END:VCALENDAR
