BEGIN:VCALENDAR
VERSION:2.0
PRODID:-//ChamberMaster//Event Calendar 2.0//EN
METHOD:PUBLISH
X-PUBLISHED-TTL:P3D
REFRESH-INTERVAL:P3D
CALSCALE:GREGORIAN
BEGIN:VEVENT
DTSTART:20190720T210000Z
DTEND:20190720T230000Z
X-MICROSOFT-CDO-ALLDAYEVENT:FALSE
SUMMARY:34th International Hispanic Theatre Festival of Miami
DESCRIPTION:Part of the 34th International Hispanic Theatre Festival of Miami\, Siete Cabritillos (Seven Little Goats)\, written by Paca Garc a y Aniceto Roca and directed by Aniceto Roca\, will be presented by Teatro Avante at the Key Biscayne Community Center. Disobeying their mother\, seven little goats allow a wolf into their house. But their mother\, and the courage and ingenuity of the youngest\, deal the fierce intruder his just deserts. And that's just the beginning! This event is sponsored in part by the Village of Key Biscayne. NOTE: Performance in Spanish.
X-ALT-DESC;FMTTYPE=text/html:<div style="color: rgb(64\, 63\, 66)\; font-family: Arial\, Verdana\, Helvetica\, sans-serif\; font-size: 12px\; white-space: pre-wrap\; background-color: rgb(255\, 255\, 255)\;">Part of the 34th International Hispanic Theatre Festival of Miami\, <em>Siete Cabritillos</em> (Seven Little Goats)\, written by Paca Garc&iacute\;a y Aniceto Roca and directed by Aniceto Roca\, will be presented by Teatro Avante at the Key Biscayne Community Center. Disobeying their mother\, seven little goats allow a wolf into their house. But their mother\, and the courage and ingenuity of the youngest\, deal the fierce intruder his just deserts. And that&#39\;s just the beginning! This event is sponsored in part by the Village of Key Biscayne. NOTE: Performance in Spanish.</div>\n
LOCATION:Key Biscayne Community Center 10 Village Green Way Island Room\, 2nd Floor Key Biscayne\, FL 33149
UID:e.330.16408
SEQUENCE:3
DTSTAMP:20260422T112357Z
URL:http://business.keybiscaynechamber.org/events/details/34th-international-hispanic-theatre-festival-of-miami-16408
END:VEVENT

END:VCALENDAR
