BEGIN:VCALENDAR
VERSION:2.0
PRODID:-//ChamberMaster//Event Calendar 2.0//EN
METHOD:PUBLISH
X-PUBLISHED-TTL:P3D
REFRESH-INTERVAL:P3D
CALSCALE:GREGORIAN
BEGIN:VEVENT
DTSTART:20200228T220000Z
DTEND:20200301T200000Z
X-MICROSOFT-CDO-ALLDAYEVENT:FALSE
SUMMARY:16th Annual Marjory Stoneman Douglas History & Heritage Festival
DESCRIPTION:Enjoy the 16th Annual Marjory Stoneman Douglas History & Heritage Festival Festival\, formerly held at Museum of the Everglades\, Everglades City\, for the past 15 years. The Festival honors the life and legacy of Marjory Stoneman Douglas through lectures and presentations\, storytelling and reminiscences\, cocktails and a tea party!
X-ALT-DESC;FMTTYPE=text/html:Enjoy the 16th Annual Marjory Stoneman Douglas History &amp\; Heritage Festival Festival\, formerly held at Museum of the Everglades\, Everglades City\, for the past 15 years. The Festival honors the life and legacy of Marjory Stoneman Douglas through lectures and presentations\, storytelling and reminiscences\, cocktails and a tea party!
LOCATION:Marjory Stoneman Douglas Biscayne Nature Center Crandon Park\, North Beach Entrance Key Biscayne\, FL 33149
UID:e.330.18636
SEQUENCE:3
DTSTAMP:20260420T100702Z
URL:http://business.keybiscaynechamber.org/events/details/16th-annual-marjory-stoneman-douglas-history-heritage-festival-18636
END:VEVENT

END:VCALENDAR
