BEGIN:VCALENDAR
VERSION:2.0
PRODID:-//ChamberMaster//Event Calendar 2.0//EN
METHOD:PUBLISH
X-PUBLISHED-TTL:P3D
REFRESH-INTERVAL:P3D
CALSCALE:GREGORIAN
BEGIN:VEVENT
DTSTART:20191122T233000Z
DTEND:20191123T040000Z
X-MICROSOFT-CDO-ALLDAYEVENT:FALSE
SUMMARY:15th Annual Rotary KB Wine & Food Fest
DESCRIPTION:Rotary Club of Key Biscayne Foundation presents a unique wine event: "THE ULTIMATE TASTING" \n\n\n\nIn this year's showdown\, five judges will taste through the finest wines produced in the world. This will not be new vs old- this will be every wine for itself! The ultimate variety of wines from both the new and the old world will compete. 21 wine varietals\, five judges\, two winners.
X-ALT-DESC;FMTTYPE=text/html:Rotary Club of Key Biscayne Foundation presents a unique wine event: &ldquo\;<strong>THE ULTIMATE TASTING</strong>&rdquo\;&nbsp\;<br />\n<br />\nIn this year&rsquo\;s showdown\, five judges will taste through the finest wines produced in the world. This will not be new vs old- this will be every wine for itself! The ultimate variety of wines from both the new and the old world will compete. 21 wine varietals\, five judges\, two winners.&nbsp\;
LOCATION:Fairways on the Key 6700 Crandon Blvd Key Biscayne\, FL 33149
UID:e.330.16463
SEQUENCE:3
DTSTAMP:20260421T123430Z
URL:http://business.keybiscaynechamber.org/events/details/15th-annual-rotary-kb-wine-food-fest-16463
END:VEVENT

END:VCALENDAR
